BEGIN:VCALENDAR
VERSION:2.0
PRODID:-//Baltimore Area Evaluators - ECPv6.15.20//NONSGML v1.0//EN
CALSCALE:GREGORIAN
METHOD:PUBLISH
X-WR-CALNAME:Baltimore Area Evaluators
X-ORIGINAL-URL:https://baltimoreareaevaluators.com
X-WR-CALDESC:Events for Baltimore Area Evaluators
REFRESH-INTERVAL;VALUE=DURATION:PT1H
X-Robots-Tag:noindex
X-PUBLISHED-TTL:PT1H
BEGIN:VTIMEZONE
TZID:America/New_York
BEGIN:DAYLIGHT
TZOFFSETFROM:-0500
TZOFFSETTO:-0400
TZNAME:EDT
DTSTART:20210314T070000
END:DAYLIGHT
BEGIN:STANDARD
TZOFFSETFROM:-0400
TZOFFSETTO:-0500
TZNAME:EST
DTSTART:20211107T060000
END:STANDARD
BEGIN:DAYLIGHT
TZOFFSETFROM:-0500
TZOFFSETTO:-0400
TZNAME:EDT
DTSTART:20220313T070000
END:DAYLIGHT
BEGIN:STANDARD
TZOFFSETFROM:-0400
TZOFFSETTO:-0500
TZNAME:EST
DTSTART:20221106T060000
END:STANDARD
BEGIN:DAYLIGHT
TZOFFSETFROM:-0500
TZOFFSETTO:-0400
TZNAME:EDT
DTSTART:20230312T070000
END:DAYLIGHT
BEGIN:STANDARD
TZOFFSETFROM:-0400
TZOFFSETTO:-0500
TZNAME:EST
DTSTART:20231105T060000
END:STANDARD
END:VTIMEZONE
BEGIN:VEVENT
DTSTART;TZID=America/New_York:20220913T080000
DTEND;TZID=America/New_York:20220913T090000
DTSTAMP:20260424T121503
CREATED:20220902T010659Z
LAST-MODIFIED:20220902T011326Z
UID:1138-1663056000-1663059600@baltimoreareaevaluators.com
SUMMARY:Interactive Mapping with Arc GIS
DESCRIPTION:Join us on September 13th at 12pm ET for our fall workshop: Interactive Mapping with Arc GIS. During this workshop attendees will receive an introduction to mapping using ARC GIS and an overview of how to use data found via the Open Baltimore portal to create maps. Presenters will also share websites and maps users can explore to understand and gather insights about Baltimore. \nRegister here: https://lnkd.in/eAazt6Dn
URL:https://baltimoreareaevaluators.com/event/interactive-mapping-with-arc-gis/
LOCATION:Zoom
CATEGORIES:Presentation,Skillshare,Workshop or Skills building
ATTACH;FMTTYPE=image/png:https://baltimoreareaevaluators.com/wp-content/uploads/2022/09/Interactive-Mapping.png
ORGANIZER;CN="BAE":MAILTO:baltimoreareaevaluators@gmail.com
END:VEVENT
END:VCALENDAR