BEGIN:VCALENDAR
VERSION:2.0
PRODID:-//Baltimore Area Evaluators - ECPv6.15.20//NONSGML v1.0//EN
CALSCALE:GREGORIAN
METHOD:PUBLISH
X-ORIGINAL-URL:https://baltimoreareaevaluators.com
X-WR-CALDESC:Events for Baltimore Area Evaluators
REFRESH-INTERVAL;VALUE=DURATION:PT1H
X-Robots-Tag:noindex
X-PUBLISHED-TTL:PT1H
BEGIN:VTIMEZONE
TZID:America/New_York
BEGIN:DAYLIGHT
TZOFFSETFROM:-0500
TZOFFSETTO:-0400
TZNAME:EDT
DTSTART:20210314T070000
END:DAYLIGHT
BEGIN:STANDARD
TZOFFSETFROM:-0400
TZOFFSETTO:-0500
TZNAME:EST
DTSTART:20211107T060000
END:STANDARD
BEGIN:DAYLIGHT
TZOFFSETFROM:-0500
TZOFFSETTO:-0400
TZNAME:EDT
DTSTART:20220313T070000
END:DAYLIGHT
BEGIN:STANDARD
TZOFFSETFROM:-0400
TZOFFSETTO:-0500
TZNAME:EST
DTSTART:20221106T060000
END:STANDARD
BEGIN:DAYLIGHT
TZOFFSETFROM:-0500
TZOFFSETTO:-0400
TZNAME:EDT
DTSTART:20230312T070000
END:DAYLIGHT
BEGIN:STANDARD
TZOFFSETFROM:-0400
TZOFFSETTO:-0500
TZNAME:EST
DTSTART:20231105T060000
END:STANDARD
END:VTIMEZONE
BEGIN:VEVENT
DTSTART;TZID=America/New_York:20221117T070000
DTEND;TZID=America/New_York:20221117T080000
DTSTAMP:20260424T085551
CREATED:20221019T020227Z
LAST-MODIFIED:20221102T014831Z
UID:1217-1668668400-1668672000@baltimoreareaevaluators.com
SUMMARY:After the American Evaluation Association Conference Sharing Circle
DESCRIPTION:Join BAE and reflect on the American Evaluation Association Conference! \nAll are welcome!\nIf you attended the conference\, come share some highlights.\nIf you did not attend the conference\, come catch up on what you missed.\nThis is an informal chance to share resources and catch up on resources and trends. \nRegister here: https://us02web.zoom.us/meeting/register/tZAlcOmtqjooGdL6AahjR4JGLKXWPj8KS_Jp
URL:https://baltimoreareaevaluators.com/event/after-the-american-evaluation-association-conference-sharing-circle/
LOCATION:Zoom
ATTACH;FMTTYPE=image/png:https://baltimoreareaevaluators.com/wp-content/uploads/2022/11/Post-AEA-2022-Sharing-Circle-Poster.png
ORGANIZER;CN="BAE":MAILTO:baltimoreareaevaluators@gmail.com
END:VEVENT
END:VCALENDAR