BEGIN:VCALENDAR
VERSION:2.0
PRODID:-//Baltimore Area Evaluators - ECPv6.15.20//NONSGML v1.0//EN
CALSCALE:GREGORIAN
METHOD:PUBLISH
X-ORIGINAL-URL:https://baltimoreareaevaluators.com
X-WR-CALDESC:Events for Baltimore Area Evaluators
REFRESH-INTERVAL;VALUE=DURATION:PT1H
X-Robots-Tag:noindex
X-PUBLISHED-TTL:PT1H
BEGIN:VTIMEZONE
TZID:America/New_York
BEGIN:DAYLIGHT
TZOFFSETFROM:-0500
TZOFFSETTO:-0400
TZNAME:EDT
DTSTART:20220313T070000
END:DAYLIGHT
BEGIN:STANDARD
TZOFFSETFROM:-0400
TZOFFSETTO:-0500
TZNAME:EST
DTSTART:20221106T060000
END:STANDARD
BEGIN:DAYLIGHT
TZOFFSETFROM:-0500
TZOFFSETTO:-0400
TZNAME:EDT
DTSTART:20230312T070000
END:DAYLIGHT
BEGIN:STANDARD
TZOFFSETFROM:-0400
TZOFFSETTO:-0500
TZNAME:EST
DTSTART:20231105T060000
END:STANDARD
BEGIN:DAYLIGHT
TZOFFSETFROM:-0500
TZOFFSETTO:-0400
TZNAME:EDT
DTSTART:20240310T070000
END:DAYLIGHT
BEGIN:STANDARD
TZOFFSETFROM:-0400
TZOFFSETTO:-0500
TZNAME:EST
DTSTART:20241103T060000
END:STANDARD
END:VTIMEZONE
BEGIN:VEVENT
DTSTART;TZID=America/New_York:20230207T080000
DTEND;TZID=America/New_York:20230601T090000
DTSTAMP:20260424T002808
CREATED:20230124T031723Z
LAST-MODIFIED:20230124T032323Z
UID:1285-1675756800-1685610000@baltimoreareaevaluators.com
SUMMARY:EASL Evaluation Leaders Series
DESCRIPTION:A web-based virtual series of 5 American Evaluation Association leaders who will share their experiences with local evaluators in St. Louis and beyond. All of these individuals have been the president of the American Evaluation Association and are currently involved with supporting program evaluation research\, education\, professional development and/or running evaluation practices. \nBAE Members \n$10/session or $30 for the series \nFind discount code in the members only section here. \nGeneral Public \n$20/session or $60 for series
URL:https://baltimoreareaevaluators.com/event/easl-evaluation-leaders-series/
LOCATION:Zoom
ATTACH;FMTTYPE=image/png:https://baltimoreareaevaluators.com/wp-content/uploads/2023/01/EASL.png
END:VEVENT
END:VCALENDAR