BEGIN:VCALENDAR
VERSION:2.0
PRODID:-//Baltimore Area Evaluators - ECPv6.15.20//NONSGML v1.0//EN
CALSCALE:GREGORIAN
METHOD:PUBLISH
X-ORIGINAL-URL:https://baltimoreareaevaluators.com
X-WR-CALDESC:Events for Baltimore Area Evaluators
REFRESH-INTERVAL;VALUE=DURATION:PT1H
X-Robots-Tag:noindex
X-PUBLISHED-TTL:PT1H
BEGIN:VTIMEZONE
TZID:America/New_York
BEGIN:DAYLIGHT
TZOFFSETFROM:-0500
TZOFFSETTO:-0400
TZNAME:EDT
DTSTART:20220313T070000
END:DAYLIGHT
BEGIN:STANDARD
TZOFFSETFROM:-0400
TZOFFSETTO:-0500
TZNAME:EST
DTSTART:20221106T060000
END:STANDARD
BEGIN:DAYLIGHT
TZOFFSETFROM:-0500
TZOFFSETTO:-0400
TZNAME:EDT
DTSTART:20230312T070000
END:DAYLIGHT
BEGIN:STANDARD
TZOFFSETFROM:-0400
TZOFFSETTO:-0500
TZNAME:EST
DTSTART:20231105T060000
END:STANDARD
BEGIN:DAYLIGHT
TZOFFSETFROM:-0500
TZOFFSETTO:-0400
TZNAME:EDT
DTSTART:20240310T070000
END:DAYLIGHT
BEGIN:STANDARD
TZOFFSETFROM:-0400
TZOFFSETTO:-0500
TZNAME:EST
DTSTART:20241103T060000
END:STANDARD
END:VTIMEZONE
BEGIN:VEVENT
DTSTART;TZID=America/New_York:20230620T080000
DTEND;TZID=America/New_York:20230620T093000
DTSTAMP:20260423T210532
CREATED:20230530T231756Z
LAST-MODIFIED:20230530T231756Z
UID:1343-1687248000-1687253400@baltimoreareaevaluators.com
SUMMARY:Asking the Right Question: Tips for Writing Inclusive Surveys
DESCRIPTION:
URL:https://baltimoreareaevaluators.com/event/asking-the-right-question-tips-for-writing-inclusive-surveys/
LOCATION:Zoom
ATTACH;FMTTYPE=image/png:https://baltimoreareaevaluators.com/wp-content/uploads/2023/05/Register-Asking-the-Right-Qs-Workshop-1.png
ORGANIZER;CN="BAE":MAILTO:baltimoreareaevaluators@gmail.com
END:VEVENT
END:VCALENDAR