BEGIN:VCALENDAR
VERSION:2.0
PRODID:-//Baltimore Area Evaluators - ECPv6.15.20//NONSGML v1.0//EN
CALSCALE:GREGORIAN
METHOD:PUBLISH
X-ORIGINAL-URL:https://baltimoreareaevaluators.com
X-WR-CALDESC:Events for Baltimore Area Evaluators
REFRESH-INTERVAL;VALUE=DURATION:PT1H
X-Robots-Tag:noindex
X-PUBLISHED-TTL:PT1H
BEGIN:VTIMEZONE
TZID:America/New_York
BEGIN:DAYLIGHT
TZOFFSETFROM:-0500
TZOFFSETTO:-0400
TZNAME:EDT
DTSTART:20200308T070000
END:DAYLIGHT
BEGIN:STANDARD
TZOFFSETFROM:-0400
TZOFFSETTO:-0500
TZNAME:EST
DTSTART:20201101T060000
END:STANDARD
BEGIN:DAYLIGHT
TZOFFSETFROM:-0500
TZOFFSETTO:-0400
TZNAME:EDT
DTSTART:20210314T070000
END:DAYLIGHT
BEGIN:STANDARD
TZOFFSETFROM:-0400
TZOFFSETTO:-0500
TZNAME:EST
DTSTART:20211107T060000
END:STANDARD
BEGIN:DAYLIGHT
TZOFFSETFROM:-0500
TZOFFSETTO:-0400
TZNAME:EDT
DTSTART:20220313T070000
END:DAYLIGHT
BEGIN:STANDARD
TZOFFSETFROM:-0400
TZOFFSETTO:-0500
TZNAME:EST
DTSTART:20221106T060000
END:STANDARD
END:VTIMEZONE
BEGIN:VEVENT
DTSTART;VALUE=DATE:20211108
DTEND;VALUE=DATE:20211113
DTSTAMP:20260422T064335
CREATED:20210507T070015Z
LAST-MODIFIED:20210507T070015Z
UID:583-1636329600-1636761599@baltimoreareaevaluators.com
SUMMARY:Eval 2021
DESCRIPTION:Our theme for 2021 is “AEA at 35: Meeting the Moment”.  It is a time for celebration and also a time for reflection on our practice of evaluation. It is a time for us to share our stories about what we have learned over the past 35 years. \n“Meeting the Moment” begs the questions: What is our history? What is today’s context? and How will we move forward? It invites an examination of the trajectory of what was\, what is\, and what will be. \n“AEA at 35: Meeting the Moment\,” suggests that this is a time for us to look into the mirror and reflect on ourselves as individual professionals and as a field of evaluation.   This is our opportunity to recognize the realities of today’s uncertain times\, to share what we have learned\, to talk about opportunities and missed opportunities and to examine how we are transforming evaluation practice to meet the complex challenges of the moment.  Some of those challenges regard diversity and inclusion; social justice; equity; global systems change; multicultural\, local\, national and international connections and partnerships and globalization\, etcetera. \nEvaluation is not one story with one evaluation narrator. It’s a collection of stories from different voices and different times and different places and different people who have very different evaluation experiences and something unique to share. For AEA\, 2021 is not only a time for us to celebrate our 35th anniversary\, but also a time for us to share what we have learned\, what we are doing now that shapes our evaluation life\, and what we are doing and planning to better our society and our planet. \nAs you prepare to submit proposals for AEA’s 2021 conference\, please consider how our  practice of evaluation has been shaped by the past and how we are adapting to meet today’s challenges. \nPROPOSALS DUE MAY 10
URL:https://baltimoreareaevaluators.com/event/eval-2021/
LOCATION:Zoom
CATEGORIES:Conference
ATTACH;FMTTYPE=image/jpeg:https://baltimoreareaevaluators.com/wp-content/uploads/2021/05/AEA_584391-21_AC21_Virtual_820x312.jpg
END:VEVENT
BEGIN:VEVENT
DTSTART;VALUE=DATE:20210503
DTEND;VALUE=DATE:20210505
DTSTAMP:20260422T064335
CREATED:20210507T065455Z
LAST-MODIFIED:20210507T065455Z
UID:579-1620000000-1620172799@baltimoreareaevaluators.com
SUMMARY:EERS Annual Conference
DESCRIPTION:The EERS board is proud to announce that the 2021 conference is being held virtually on May 3 and 4\, 11am-4pm EST. The theme of this year’s conference is Capacity\, Complexity\, Collaboration. We look forward to connecting with our evaluation colleagues in the Spring!
URL:https://baltimoreareaevaluators.com/event/eers-annual-conference/
LOCATION:Zoom
CATEGORIES:Conference
ATTACH;FMTTYPE=image/png:https://baltimoreareaevaluators.com/wp-content/uploads/2021/05/Screen-Shot-2021-05-06-at-10.50.39-PM.png
END:VEVENT
END:VCALENDAR