BEGIN:VCALENDAR
VERSION:2.0
PRODID:-//Baltimore Area Evaluators - ECPv6.15.20//NONSGML v1.0//EN
CALSCALE:GREGORIAN
METHOD:PUBLISH
X-WR-CALNAME:Baltimore Area Evaluators
X-ORIGINAL-URL:https://baltimoreareaevaluators.com
X-WR-CALDESC:Events for Baltimore Area Evaluators
REFRESH-INTERVAL;VALUE=DURATION:PT1H
X-Robots-Tag:noindex
X-PUBLISHED-TTL:PT1H
BEGIN:VTIMEZONE
TZID:America/New_York
BEGIN:DAYLIGHT
TZOFFSETFROM:-0500
TZOFFSETTO:-0400
TZNAME:EDT
DTSTART:20250309T070000
END:DAYLIGHT
BEGIN:STANDARD
TZOFFSETFROM:-0400
TZOFFSETTO:-0500
TZNAME:EST
DTSTART:20251102T060000
END:STANDARD
BEGIN:DAYLIGHT
TZOFFSETFROM:-0500
TZOFFSETTO:-0400
TZNAME:EDT
DTSTART:20260308T070000
END:DAYLIGHT
BEGIN:STANDARD
TZOFFSETFROM:-0400
TZOFFSETTO:-0500
TZNAME:EST
DTSTART:20261101T060000
END:STANDARD
BEGIN:DAYLIGHT
TZOFFSETFROM:-0500
TZOFFSETTO:-0400
TZNAME:EDT
DTSTART:20270314T070000
END:DAYLIGHT
BEGIN:STANDARD
TZOFFSETFROM:-0400
TZOFFSETTO:-0500
TZNAME:EST
DTSTART:20271107T060000
END:STANDARD
END:VTIMEZONE
BEGIN:VEVENT
DTSTART;TZID=America/New_York:20260325T120000
DTEND;TZID=America/New_York:20260325T130000
DTSTAMP:20260423T070315
CREATED:20260304T141223Z
LAST-MODIFIED:20260316T022440Z
UID:1809-1774440000-1774443600@baltimoreareaevaluators.com
SUMMARY:Prospects for Independent Evaluation Consulting in the Near Future
DESCRIPTION:Join us for Baltimore Area Evaluator’s March 2026 webinar:\nProspects for Independent Evaluation Consulting in the Near Future\nThe presentation will explore independent evaluation consultants’ views regarding near-term opportunities in evaluation\, whether these views vary depending on certain characteristics\, and what consultants think about opportunities in evaluation adjacent fields. It will also discuss strategies some consultants are taking in response to these views. Read more about Tina’s work on independent consulting in the AEA Independent Consulting TIG December 2025 newsletter. \n  \n \nAbout the presenter:\nTina Faulkner is an experienced monitoring\, evaluation and learning officer with a proven track record of innovating to drive results and impact. She has introduced more efficient and effective monitoring and evaluation approaches to capture outcomes of child and forced labor programming and specializes in action-oriented research. \n➡️ Please note BAE does not allow AI notetakers in our webinars. \n➡️ During the Q&A section of the webinar\, we will use a “waterfall” approach – you will be invited to type your question in the chat box but wait to hit “send.” When prompted\, everyone will hit enter at the same time. We use this method to ensure that everyone has enough time to write their question. \n➡️ Click here to register to attend on Zoom! ⬅️\n Enjoy BAE events and webinars? Help us continue to host great events like this by donating $5. We truly appreciate your support!
URL:https://baltimoreareaevaluators.com/event/prospects-for-independent-evaluation-consulting-in-the-near-future/
LOCATION:Zoom
ORGANIZER;CN="BAE":MAILTO:baltimoreareaevaluators@gmail.com
END:VEVENT
BEGIN:VEVENT
DTSTART;TZID=America/New_York:20260506T173000
DTEND;TZID=America/New_York:20260506T183000
DTSTAMP:20260423T070315
CREATED:20260421T212440Z
LAST-MODIFIED:20260421T213154Z
UID:1848-1778088600-1778092200@baltimoreareaevaluators.com
SUMMARY:BAE Board Coffee & Chat
DESCRIPTION:For individuals considering running for a position and would like to learn more\, we are hosting Coffee & Chat sessions with current and former BAE Board officers. \nThese informal office hours are an opportunity to ask questions about Board service and hear directly about the experience of serving. \nIf you are interested in learning more\, please see our webpage at https://baltimoreareaevaluators.com/2026-board-elections/ \nAnd come talk with us on May 6th at 5:30 PM – 6:30 PM via Zoom. \nJoin Zoom Meeting https://us06web.zoom.us/j/88324981568?pwd=CKAbSVuG3drvfgb2iGLSH4L1Kbl0iN.1\nMeeting ID: 883 2498 1568 Passcode: 414663 \n 
URL:https://baltimoreareaevaluators.com/event/bae-board-coffee-chat/
LOCATION:Zoom
ATTACH;FMTTYPE=image/png:https://baltimoreareaevaluators.com/wp-content/uploads/2026/04/Screenshot-2026-04-21-173107.png
END:VEVENT
BEGIN:VEVENT
DTSTART;TZID=America/New_York:20260519T173000
DTEND;TZID=America/New_York:20260519T190000
DTSTAMP:20260423T070315
CREATED:20260330T125937Z
LAST-MODIFIED:20260422T135150Z
UID:1835-1779211800-1779217200@baltimoreareaevaluators.com
SUMMARY:BAE Spring In-Person Meetup
DESCRIPTION:Join Baltimore Area Evaluators for a night of bowling\, networking\, and good conversation at our upcoming spring meetup. Everyone is welcome\, even if you’ve never attended one of our events before! \nWhen: Tuesday\, May 19 | 5:30pm – 7pm \nWhere: Mustang Alley’s\, 1300 Bank Street \nNot sure how to find us? \n📍 Look for signs we’ll have printed at our tables \n📨If you’re lost or unsure where to go\, shoot us an email at baltimoreareaevaluators@gmail.com. We’ll be checking it throughout the night. \nLooking forward to seeing you there!
URL:https://baltimoreareaevaluators.com/event/bae-spring-in-person-meetup/
LOCATION:Mustang Alley’s\, 1300 Bank Street\, Baltimore\, United States
ATTACH;FMTTYPE=image/jpeg:https://baltimoreareaevaluators.com/wp-content/uploads/2026/03/canva-white-and-red-bowling-pins-with-green-bowling-ball-MAEa_552Jsk-e1776865308501.jpg
ORGANIZER;CN="BAE":MAILTO:baltimoreareaevaluators@gmail.com
END:VEVENT
BEGIN:VEVENT
DTSTART;TZID=America/New_York:20260520T120000
DTEND;TZID=America/New_York:20260520T130000
DTSTAMP:20260423T070315
CREATED:20260421T212756Z
LAST-MODIFIED:20260421T213425Z
UID:1852-1779278400-1779282000@baltimoreareaevaluators.com
SUMMARY:BAE Board Coffee & Chat
DESCRIPTION:For individuals considering running for a position and would like to learn more\, we are hosting Coffee & Chat sessions with current and former BAE Board officers. \nThese informal office hours are an opportunity to ask questions about Board service and hear directly about the experience of serving. \nIf you are interested in learning more\, please see our webpage at https://baltimoreareaevaluators.com/2026-board-elections/ \nAnd come talk with us on May 20th at 12:00 PM – 1:00 PM via Zoom. \nJoin Zoom Meeting: https://us06web.zoom.us/j/82893367207?pwd=A6WUFMNDJKXnNkpyJfWbT5DKCgTCTx.1 \nMeeting ID: 828 9336 7207 Passcode: 803652
URL:https://baltimoreareaevaluators.com/event/bae-board-coffee-chat-2/
LOCATION:Zoom
ATTACH;FMTTYPE=image/png:https://baltimoreareaevaluators.com/wp-content/uploads/2026/04/Screenshot-2026-04-21-173350.png
END:VEVENT
BEGIN:VEVENT
DTSTART;TZID=America/New_York:20260603T120000
DTEND;TZID=America/New_York:20260603T130000
DTSTAMP:20260423T070315
CREATED:20260330T130030Z
LAST-MODIFIED:20260330T130030Z
UID:1837-1780488000-1780491600@baltimoreareaevaluators.com
SUMMARY:BAE Summer Webinar
DESCRIPTION:Details TBA!
URL:https://baltimoreareaevaluators.com/event/bae-summer-webinar/
LOCATION:Zoom
ORGANIZER;CN="BAE":MAILTO:baltimoreareaevaluators@gmail.com
END:VEVENT
END:VCALENDAR