BEGIN:VCALENDAR
VERSION:2.0
PRODID:-//Baltimore Area Evaluators - ECPv6.15.20//NONSGML v1.0//EN
CALSCALE:GREGORIAN
METHOD:PUBLISH
X-ORIGINAL-URL:https://baltimoreareaevaluators.com
X-WR-CALDESC:Events for Baltimore Area Evaluators
REFRESH-INTERVAL;VALUE=DURATION:PT1H
X-Robots-Tag:noindex
X-PUBLISHED-TTL:PT1H
BEGIN:VTIMEZONE
TZID:America/New_York
BEGIN:DAYLIGHT
TZOFFSETFROM:-0500
TZOFFSETTO:-0400
TZNAME:EDT
DTSTART:20210314T070000
END:DAYLIGHT
BEGIN:STANDARD
TZOFFSETFROM:-0400
TZOFFSETTO:-0500
TZNAME:EST
DTSTART:20211107T060000
END:STANDARD
BEGIN:DAYLIGHT
TZOFFSETFROM:-0500
TZOFFSETTO:-0400
TZNAME:EDT
DTSTART:20220313T070000
END:DAYLIGHT
BEGIN:STANDARD
TZOFFSETFROM:-0400
TZOFFSETTO:-0500
TZNAME:EST
DTSTART:20221106T060000
END:STANDARD
BEGIN:DAYLIGHT
TZOFFSETFROM:-0500
TZOFFSETTO:-0400
TZNAME:EDT
DTSTART:20230312T070000
END:DAYLIGHT
BEGIN:STANDARD
TZOFFSETFROM:-0400
TZOFFSETTO:-0500
TZNAME:EST
DTSTART:20231105T060000
END:STANDARD
END:VTIMEZONE
BEGIN:VEVENT
DTSTART;TZID=America/New_York:20221104T070000
DTEND;TZID=America/New_York:20221104T080000
DTSTAMP:20260424T071533
CREATED:20221102T011819Z
LAST-MODIFIED:20221102T014915Z
UID:1242-1667545200-1667548800@baltimoreareaevaluators.com
SUMMARY:Unpacking Health Equity with Institutions and Communities: A Roundtable Discussion
DESCRIPTION:Chicagoland Evaluation Association invites you to a virtual roundtable of evaluators addressing health equity in Chicagoland. Health equity is a complex issue because it overlaps with policies\, systems\, and environments\, as well as community-level context and health disparities that are historic and closely linked to systemic discrimination of resources. As a point of departure in this event\, we will acknowledge the disconnect between health equity as a concept held by institutions and the application of health equity in communities. All panelists will then share their journey as champions for health equity. We hope to see you there. \nPanelists: Erik Elías Glenn\, MSW\, Christina Iyengar\, Dr.PH\, MPH\, Diana Lemos\, PhD\, MPH\, Dr. Gregory Phillips II\, PhD\, MS \nModerator: Shana Alford \nFREE for BAE members (see passcode here: https://baltimoreareaevaluators.com/members-area/) \n$10 for guests
URL:https://baltimoreareaevaluators.com/event/unpacking-health-equity-with-institutions-and-communities-a-roundtable-discussion/
LOCATION:Zoom
END:VEVENT
BEGIN:VEVENT
DTSTART;VALUE=DATE:20221106
DTEND;VALUE=DATE:20221113
DTSTAMP:20260424T071533
CREATED:20220902T011244Z
LAST-MODIFIED:20220929T012759Z
UID:1141-1667761200-1668279599@baltimoreareaevaluators.com
SUMMARY:American Evaluation Association 2022 Conference
DESCRIPTION:The American Evaluation Association (AEA) is hosting Evaluation 2022 in New Orleans\, Louisiana\, November 7 – 12. Register for Evaluation 2022 today! http://bit.ly/2s3QSOG
URL:https://baltimoreareaevaluators.com/event/1141/
ATTACH;FMTTYPE=image/jpeg:https://baltimoreareaevaluators.com/wp-content/uploads/2022/09/eval22.jpg
END:VEVENT
BEGIN:VEVENT
DTSTART;TZID=America/New_York:20221117T070000
DTEND;TZID=America/New_York:20221117T080000
DTSTAMP:20260424T071533
CREATED:20221019T020227Z
LAST-MODIFIED:20221102T014831Z
UID:1217-1668668400-1668672000@baltimoreareaevaluators.com
SUMMARY:After the American Evaluation Association Conference Sharing Circle
DESCRIPTION:Join BAE and reflect on the American Evaluation Association Conference! \nAll are welcome!\nIf you attended the conference\, come share some highlights.\nIf you did not attend the conference\, come catch up on what you missed.\nThis is an informal chance to share resources and catch up on resources and trends. \nRegister here: https://us02web.zoom.us/meeting/register/tZAlcOmtqjooGdL6AahjR4JGLKXWPj8KS_Jp
URL:https://baltimoreareaevaluators.com/event/after-the-american-evaluation-association-conference-sharing-circle/
LOCATION:Zoom
ATTACH;FMTTYPE=image/png:https://baltimoreareaevaluators.com/wp-content/uploads/2022/11/Post-AEA-2022-Sharing-Circle-Poster.png
ORGANIZER;CN="BAE":MAILTO:baltimoreareaevaluators@gmail.com
END:VEVENT
END:VCALENDAR