BEGIN:VCALENDAR
VERSION:2.0
PRODID:-//Baltimore Area Evaluators - ECPv6.15.20//NONSGML v1.0//EN
CALSCALE:GREGORIAN
METHOD:PUBLISH
X-ORIGINAL-URL:https://baltimoreareaevaluators.com
X-WR-CALDESC:Events for Baltimore Area Evaluators
REFRESH-INTERVAL;VALUE=DURATION:PT1H
X-Robots-Tag:noindex
X-PUBLISHED-TTL:PT1H
BEGIN:VTIMEZONE
TZID:America/New_York
BEGIN:DAYLIGHT
TZOFFSETFROM:-0500
TZOFFSETTO:-0400
TZNAME:EDT
DTSTART:20230312T070000
END:DAYLIGHT
BEGIN:STANDARD
TZOFFSETFROM:-0400
TZOFFSETTO:-0500
TZNAME:EST
DTSTART:20231105T060000
END:STANDARD
BEGIN:DAYLIGHT
TZOFFSETFROM:-0500
TZOFFSETTO:-0400
TZNAME:EDT
DTSTART:20240310T070000
END:DAYLIGHT
BEGIN:STANDARD
TZOFFSETFROM:-0400
TZOFFSETTO:-0500
TZNAME:EST
DTSTART:20241103T060000
END:STANDARD
BEGIN:DAYLIGHT
TZOFFSETFROM:-0500
TZOFFSETTO:-0400
TZNAME:EDT
DTSTART:20250309T070000
END:DAYLIGHT
BEGIN:STANDARD
TZOFFSETFROM:-0400
TZOFFSETTO:-0500
TZNAME:EST
DTSTART:20251102T060000
END:STANDARD
END:VTIMEZONE
BEGIN:VEVENT
DTSTART;TZID=America/New_York:20241017T133000
DTEND;TZID=America/New_York:20241017T153000
DTSTAMP:20260423T182045
CREATED:20241007T020623Z
LAST-MODIFIED:20241007T020623Z
UID:1494-1729171800-1729179000@baltimoreareaevaluators.com
SUMMARY:Join us at the BAE fall networking event!
DESCRIPTION:With the cool fall breeze rolling in\, it’s a perfect time to gather at our upcoming networking event! This is a casual meetup and opportunity to connect with fellow evaluators and discuss what you want from BAE. Whether you’re a long-time member or just thinking of joining\, we’d love to spend time with you and hear your input. \n  \n📅 DATE: Thursday\, October 17 \n⏰ TIME: 5:30-7:30pm \n📍 LOCATION: Belvedere Square \n529 E. Belvedere Ave. \nBaltimore\, MD 21212 \n  \nQuestions? Drop us a line at baltimoreareaevaluators@gmail.com.
URL:https://baltimoreareaevaluators.com/event/join-us-at-the-bae-fall-networking-event/
LOCATION:Belvedere Square\, 529 E. Belvedere Ave.\, Baltimore\, MD\, 21212\, United States
ATTACH;FMTTYPE=image/png:https://baltimoreareaevaluators.com/wp-content/uploads/2024/10/BAE-fall-networking.png
END:VEVENT
END:VCALENDAR